BEGIN:VCALENDAR
VERSION:2.0
PRODID:icalendar-ruby
CALSCALE:GREGORIAN
BEGIN:VEVENT
DTSTAMP:20260421T095109Z
UID:198ea5b0-a3fb-4aaa-ab5a-cfc7becca7fb
DTSTART;VALUE=DATE:20191121
DESCRIPTION:Property ID# 466628\, Locatoin: 1/77 Thorndon Quay Wellington\,
  Time: 1:00PM
SUMMARY:Auction for 
END:VEVENT
END:VCALENDAR
