BEGIN:VCALENDAR
VERSION:2.0
PRODID:icalendar-ruby
CALSCALE:GREGORIAN
BEGIN:VEVENT
DTSTAMP:20260423T221759Z
UID:2fa8359a-f310-4cde-95e7-765c002a2288
DTSTART;VALUE=DATE:20200304
DESCRIPTION:Property ID# 471638\, Locatoin: Harcourts Wellington City Offic
 e\, 54-56 Cambridge Terrace\, Wellington (not selling prior)\, Time: 12:15
 PM
SUMMARY:Auction for 
END:VEVENT
END:VCALENDAR
