BEGIN:VCALENDAR
VERSION:2.0
PRODID:icalendar-ruby
CALSCALE:GREGORIAN
BEGIN:VEVENT
DTSTAMP:20260421T041130Z
UID:9b8cd2af-6c97-455d-92f1-06488ef9b4d9
DTSTART;VALUE=DATE:20200305
DESCRIPTION:Property ID# 473977\, Locatoin: 1/77 Thorndon Quay\, Wellington
 \, Time: 1:00PM
SUMMARY:Auction for 
END:VEVENT
END:VCALENDAR
