BEGIN:VCALENDAR
VERSION:2.0
PRODID:icalendar-ruby
CALSCALE:GREGORIAN
BEGIN:VEVENT
DTSTAMP:20260421T042259Z
UID:0e5eaeae-7cfb-459a-88bd-65de52a1a356
DTSTART;VALUE=DATE:20200611
DESCRIPTION:Property ID# 481885\, Locatoin: 1/77 Thorndon Quay\, Wellington
 \, Time: 1:00PM
SUMMARY:Auction for 
END:VEVENT
END:VCALENDAR
