BEGIN:VCALENDAR
VERSION:2.0
PRODID:icalendar-ruby
CALSCALE:GREGORIAN
BEGIN:VEVENT
DTSTAMP:20260421T042047Z
UID:2b5ec4f5-92a7-48b2-a9df-47f9853f3bd0
DTSTART;VALUE=DATE:20200903
DESCRIPTION:Property ID# 487896\, Locatoin: 1/77 Thorndon Quay\, Wellington
 \, Time: 1:00PM
SUMMARY:Auction for 
END:VEVENT
END:VCALENDAR
