BEGIN:VCALENDAR
VERSION:2.0
PRODID:icalendar-ruby
CALSCALE:GREGORIAN
BEGIN:VEVENT
DTSTAMP:20260423T125510Z
UID:6c0176fe-586c-4ebf-a2e1-13560e4ef313
DTSTART;VALUE=DATE:20200910
DESCRIPTION:Property ID# 487903\, Locatoin: 8 Kent Terrace\, Wellington\, T
 ime: 12:00PM
SUMMARY:Auction for 
END:VEVENT
END:VCALENDAR
