BEGIN:VCALENDAR
VERSION:2.0
PRODID:icalendar-ruby
CALSCALE:GREGORIAN
BEGIN:VEVENT
DTSTAMP:20260426T000013Z
UID:9523785a-252d-44f8-9f00-9cf26705b37d
DTSTART;VALUE=DATE:20200922
DESCRIPTION:Property ID# 489436\, Time: 12:00PM
SUMMARY:Auction for 
END:VEVENT
END:VCALENDAR
