BEGIN:VCALENDAR
VERSION:2.0
PRODID:icalendar-ruby
CALSCALE:GREGORIAN
BEGIN:VEVENT
DTSTAMP:20260422T073631Z
UID:ee036cd7-0fa2-4b65-9438-577a0fef84cd
DTSTART;VALUE=DATE:20210219
DESCRIPTION:Property ID# 493395\, Locatoin: Harcourts Wellington City Offic
 e\, 54-56 Cambridge Terrace (unless sold prior)\, Time: 12:00PM
SUMMARY:Auction for 
END:VEVENT
END:VCALENDAR
