BEGIN:VCALENDAR
VERSION:2.0
PRODID:icalendar-ruby
CALSCALE:GREGORIAN
BEGIN:VEVENT
DTSTAMP:20260421T041435Z
UID:adc2b208-8354-4313-a98e-192631fc8efd
DTSTART;VALUE=DATE:20201105
DESCRIPTION:Property ID# 493444\, Locatoin: 1/77 Thordon Quay\, Wellington\
 , Time: 1:00PM
SUMMARY:Auction for 
END:VEVENT
END:VCALENDAR
