BEGIN:VCALENDAR
VERSION:2.0
PRODID:icalendar-ruby
CALSCALE:GREGORIAN
BEGIN:VEVENT
DTSTAMP:20260423T090802Z
UID:d8deaf97-6f68-4b50-8826-7d14fda390ec
DTSTART;VALUE=DATE:20201118
DESCRIPTION:Property ID# 494079\, Locatoin: 8 Kent Terrace\, Wellington\, T
 ime: 12:00PM
SUMMARY:Auction for 
END:VEVENT
END:VCALENDAR
