BEGIN:VCALENDAR
VERSION:2.0
PRODID:icalendar-ruby
CALSCALE:GREGORIAN
BEGIN:VEVENT
DTSTAMP:20260425T120105Z
UID:35625937-4a4c-4aa3-9976-8f4260dabd23
DTSTART;VALUE=DATE:20210128
DESCRIPTION:Property ID# 499031\, Locatoin: Ray White Wellington City Offic
 e\, Level 1 77 Thorndon Quay\, Time: 12:00PM
SUMMARY:Auction for 
END:VEVENT
END:VCALENDAR
