BEGIN:VCALENDAR
VERSION:2.0
PRODID:icalendar-ruby
CALSCALE:GREGORIAN
BEGIN:VEVENT
DTSTAMP:20260425T154508Z
UID:88ff4f8a-7e84-46ef-9f4d-3ce82950b383
DTSTART;VALUE=DATE:20210210
DESCRIPTION:Property ID# 500321\, Locatoin: Ray White Thorndon\, Level 1\, 
 77 Thorndon Quay\, Wellington\, Time: 12:00PM
SUMMARY:Auction for 
END:VEVENT
END:VCALENDAR
