BEGIN:VCALENDAR
VERSION:2.0
PRODID:icalendar-ruby
CALSCALE:GREGORIAN
BEGIN:VEVENT
DTSTAMP:20260421T042614Z
UID:bf2b746a-51d8-4b8f-a3c3-053e1c3870c8
DTSTART;VALUE=DATE:20210603
DESCRIPTION:Property ID# 510306\, Time: 1:00PM
SUMMARY:Auction for 
END:VEVENT
END:VCALENDAR
