BEGIN:VCALENDAR
VERSION:2.0
PRODID:icalendar-ruby
CALSCALE:GREGORIAN
BEGIN:VEVENT
DTSTAMP:20260420T091902Z
UID:f01b609f-a205-44cd-9bbe-37e41756a56c
DTSTART;VALUE=DATE:20210827
DESCRIPTION:Property ID# 515089\, Locatoin: 1/77 Thorndon Quay\, Thorndon\,
  Wellington\, Time: 12:00PM
SUMMARY:Auction for 
END:VEVENT
END:VCALENDAR
