BEGIN:VCALENDAR
VERSION:2.0
PRODID:icalendar-ruby
CALSCALE:GREGORIAN
BEGIN:VEVENT
DTSTAMP:20260424T091110Z
UID:38d50b04-7d30-4dcb-8361-6c9569322078
DTSTART;VALUE=DATE:20220331
DESCRIPTION:Property ID# 531264\, Locatoin: 8 Kent Terrace\, Wellington\, T
 ime: 12:00PM
SUMMARY:Auction for 
END:VEVENT
END:VCALENDAR
