BEGIN:VCALENDAR
VERSION:2.0
PRODID:icalendar-ruby
CALSCALE:GREGORIAN
BEGIN:VEVENT
DTSTAMP:20260419T130613Z
UID:0df7c442-d50a-4c57-a3ae-630e21d42174
DTSTART;VALUE=DATE:20230405
DESCRIPTION:Property ID# 553332\, Locatoin: Harcourts Wellington City Offic
 e (Unless Sold Prior)\, Time: 1:00PM
SUMMARY:Auction for 
END:VEVENT
END:VCALENDAR
