BEGIN:VCALENDAR
VERSION:2.0
PRODID:icalendar-ruby
CALSCALE:GREGORIAN
BEGIN:VEVENT
DTSTAMP:20260421T181814Z
UID:d8bdeb02-27a5-4eae-bf04-f04c63614168
DTSTART;VALUE=DATE:20240314
DESCRIPTION:Property ID# 570936\, Locatoin: 8 Kent Terrace\, Wellington\, T
 ime: 2:00PM
SUMMARY:Auction for 
END:VEVENT
END:VCALENDAR
