BEGIN:VCALENDAR
VERSION:2.0
PRODID:icalendar-ruby
CALSCALE:GREGORIAN
BEGIN:VEVENT
DTSTAMP:20260422T235215Z
UID:31899242-c3a1-4b1c-ac6e-00b5acd97ef0
DTSTART;VALUE=DATE:20240604
DESCRIPTION:Property ID# 576610\, Locatoin: 8 Kent Terrace\, Wellington\, T
 ime: 12:00PM
SUMMARY:Auction for 
END:VEVENT
END:VCALENDAR
