BEGIN:VCALENDAR
VERSION:2.0
PRODID:icalendar-ruby
CALSCALE:GREGORIAN
BEGIN:VEVENT
DTSTAMP:20260422T234635Z
UID:f62b8052-7fc0-43eb-a31f-e801839b4870
DTSTART;VALUE=DATE:20240919
DESCRIPTION:Property ID# 579457\, Locatoin: 8 Kent Terrace\, Wellington\, T
 ime: 1:00PM
SUMMARY:Auction for 
END:VEVENT
END:VCALENDAR
