BEGIN:VCALENDAR
VERSION:2.0
PRODID:icalendar-ruby
CALSCALE:GREGORIAN
BEGIN:VEVENT
DTSTAMP:20260423T071859Z
UID:9aa23be1-6c1a-42c1-a503-84363aa3121f
DTSTART;VALUE=DATE:20241010
DESCRIPTION:Property ID# 581069\, Locatoin: 2/153 Karori Road\, Wellington\
 , Time: 12:00PM
SUMMARY:Auction for 
END:VEVENT
END:VCALENDAR
