BEGIN:VCALENDAR
VERSION:2.0
PRODID:icalendar-ruby
CALSCALE:GREGORIAN
BEGIN:VEVENT
DTSTAMP:20260423T072022Z
UID:82a43d6d-ba7f-477f-a8bc-b2b48bc9ec47
DTSTART;VALUE=DATE:20241107
DESCRIPTION:Property ID# 582632\, Locatoin: 2/153 Karori Road\, Wellington\
 , Time: 12:00PM
SUMMARY:Auction for 
END:VEVENT
END:VCALENDAR
