BEGIN:VCALENDAR
VERSION:2.0
PRODID:icalendar-ruby
CALSCALE:GREGORIAN
BEGIN:VEVENT
DTSTAMP:20260423T134601Z
UID:11275867-d661-4701-83f0-df77ce5f1c48
DTSTART;VALUE=DATE:20241120
DESCRIPTION:Property ID# 583308\, Locatoin: Harcourts Wellington City Offic
 e\, 57 Vivian St Te Aro 6011\, Time: 12:15PM
SUMMARY:Auction for 
END:VEVENT
END:VCALENDAR
