BEGIN:VCALENDAR
VERSION:2.0
PRODID:icalendar-ruby
CALSCALE:GREGORIAN
BEGIN:VEVENT
DTSTAMP:20260423T074222Z
UID:273185f8-84b4-47c5-a8d8-58d044aa88af
DTSTART;VALUE=DATE:20250123
DESCRIPTION:Property ID# 585761\, Locatoin: 2/153 Karori Road\, Wellington\
 , Time: 12:00PM
SUMMARY:Auction for 
END:VEVENT
END:VCALENDAR
