BEGIN:VCALENDAR
VERSION:2.0
PRODID:icalendar-ruby
CALSCALE:GREGORIAN
BEGIN:VEVENT
DTSTAMP:20260422T234437Z
UID:1bbba8f6-f49a-4e09-aef7-27d05485753a
DTSTART;VALUE=DATE:20250220
DESCRIPTION:Property ID# 586985\, Locatoin: 8 Kent Terrace Wellington \, Ti
 me: 1:00PM
SUMMARY:Auction for 83 Tannadyce Street
END:VEVENT
END:VCALENDAR
