BEGIN:VCALENDAR
VERSION:2.0
PRODID:icalendar-ruby
CALSCALE:GREGORIAN
BEGIN:VEVENT
DTSTAMP:20260423T073746Z
UID:09ed1daa-1590-40f0-b8ed-3d33009e5b3f
DTSTART;VALUE=DATE:20250226
DESCRIPTION:Property ID# 587788\, Locatoin: 2/153 Karori Road\, Wellington\
 , Time: 2:00PM
SUMMARY:Auction for 
END:VEVENT
END:VCALENDAR
