BEGIN:VCALENDAR
VERSION:2.0
PRODID:icalendar-ruby
CALSCALE:GREGORIAN
BEGIN:VEVENT
DTSTAMP:20260423T072253Z
UID:0f15dde3-73c3-4afb-a695-c37e7d9fecf1
DTSTART;VALUE=DATE:20250306
DESCRIPTION:Property ID# 588199\, Locatoin: 2/153 Karori Road\, Wellington\
 , Time: 12:00PM
SUMMARY:Auction for 
END:VEVENT
END:VCALENDAR
