BEGIN:VCALENDAR
VERSION:2.0
PRODID:icalendar-ruby
CALSCALE:GREGORIAN
BEGIN:VEVENT
DTSTAMP:20260423T163758Z
UID:0ed4f361-51f1-4ebb-8230-0b80434a252c
DTSTART;VALUE=DATE:20250312
DESCRIPTION:Property ID# 588563\, Locatoin: Harcourts Wellington City Offic
 e\, 57 Vivian Street\, Te Aro\, Wellington 6011\, Time: 12:15PM
SUMMARY:Auction for 
END:VEVENT
END:VCALENDAR
