BEGIN:VCALENDAR
VERSION:2.0
PRODID:icalendar-ruby
CALSCALE:GREGORIAN
BEGIN:VEVENT
DTSTAMP:20260424T091117Z
UID:41b6196d-5827-49ec-9615-9da0e78c9d0a
DTSTART;VALUE=DATE:20250403
DESCRIPTION:Property ID# 589554\, Locatoin: 1/77 Thorndon Quay\, Wellington
 \, Time: 12:00PM
SUMMARY:Auction for 
END:VEVENT
END:VCALENDAR
