BEGIN:VCALENDAR
VERSION:2.0
PRODID:icalendar-ruby
CALSCALE:GREGORIAN
BEGIN:VEVENT
DTSTAMP:20260424T091105Z
UID:921b7707-cacf-4cd9-8afd-18f555445ea7
DTSTART;VALUE=DATE:20260219
DESCRIPTION:Property ID# 602789\, Locatoin: 8 Kent Terrace\, Wellington\, T
 ime: 1:00PM
SUMMARY:Auction for 37 Balfour Street
END:VEVENT
END:VCALENDAR
