BEGIN:VCALENDAR
VERSION:2.0
PRODID:icalendar-ruby
CALSCALE:GREGORIAN
BEGIN:VEVENT
DTSTAMP:20260425T102805Z
UID:cdc137b1-873f-4ca4-a1a6-47aa4d608905
DTSTART;VALUE=DATE:20260226
DESCRIPTION:Property ID# 603473\, Locatoin: Level 1\, 77 Thorndon Quay\, WE
 LLINGTON\, Time: 2:00PM
SUMMARY:Auction for 
END:VEVENT
END:VCALENDAR
