BEGIN:VCALENDAR
VERSION:2.0
PRODID:icalendar-ruby
CALSCALE:GREGORIAN
BEGIN:VEVENT
DTSTAMP:20260420T091801Z
UID:41906d6a-8563-4ed2-b27c-f53cc514f253
DTSTART;VALUE=DATE:20260429
DESCRIPTION:Property ID# 606481\, Locatoin: Lowe & Co Realty 8 Kent Terrace
 \, Mount Victoria\, Time: 2:00PM
SUMMARY:Auction for 94 Endeavour Street
END:VEVENT
END:VCALENDAR
