BEGIN:VCALENDAR
VERSION:2.0
PRODID:icalendar-ruby
CALSCALE:GREGORIAN
BEGIN:VEVENT
DTSTAMP:20260419T131707Z
UID:9a648a15-857b-44c9-a557-f5fb71acf356
DTSTART;TZID=Pacific/Auckland:20260418T133000
DTEND;TZID=Pacific/Auckland:20260418T140000
DESCRIPTION:Property ID# 606497
SUMMARY:Openhome for 502/120 Victoria Street
END:VEVENT
END:VCALENDAR
